BEGIN:VCALENDAR
VERSION:2.0
PRODID:-//Preturi Artisti - ECPv6.2.9//NONSGML v1.0//EN
CALSCALE:GREGORIAN
METHOD:PUBLISH
X-ORIGINAL-URL:http://preturi-artisti.ro
X-WR-CALDESC:Events for Preturi Artisti
REFRESH-INTERVAL;VALUE=DURATION:PT1H
X-Robots-Tag:noindex
X-PUBLISHED-TTL:PT1H
BEGIN:VTIMEZONE
TZID:UTC
BEGIN:STANDARD
TZOFFSETFROM:+0000
TZOFFSETTO:+0000
TZNAME:UTC
DTSTART:20240101T000000
END:STANDARD
END:VTIMEZONE
BEGIN:VEVENT
DTSTART;TZID=UTC:20240101T010000
DTEND;TZID=UTC:20240101T020000
DTSTAMP:20260419T235823
CREATED:20181129T080721Z
LAST-MODIFIED:20181129T080721Z
UID:6341-1704070800-1704074400@preturi-artisti.ro
SUMMARY:Concert Revelion Kaira - Zalau
DESCRIPTION:Kaira va sustine un recital in noaptea de revelion la Brilliant Parc sala Belvedere din Zalau incepand cu ora 01.00.
URL:http://preturi-artisti.ro/event/concert-revelion-kaira-zalau/
LOCATION:Brilliant Parc\, strada George Cosbuc nr.1\, Zalau\, România
CATEGORIES:concerte
ATTACH;FMTTYPE=image/jpeg:http://preturi-artisti.ro/wp-content/uploads/kaira-concert-revelion.jpg
END:VEVENT
END:VCALENDAR